BEGIN:VCALENDAR
VERSION:2.0
PRODID:-//Head First - ECPv6.15.20//NONSGML v1.0//EN
CALSCALE:GREGORIAN
METHOD:PUBLISH
X-WR-CALNAME:Head First
X-ORIGINAL-URL:https://headfirst-northyorks.org
X-WR-CALDESC:Events for Head First
REFRESH-INTERVAL;VALUE=DURATION:PT1H
X-Robots-Tag:noindex
X-PUBLISHED-TTL:PT1H
BEGIN:VTIMEZONE
TZID:Europe/London
BEGIN:DAYLIGHT
TZOFFSETFROM:+0000
TZOFFSETTO:+0100
TZNAME:BST
DTSTART:20210328T010000
END:DAYLIGHT
BEGIN:STANDARD
TZOFFSETFROM:+0100
TZOFFSETTO:+0000
TZNAME:GMT
DTSTART:20211031T010000
END:STANDARD
BEGIN:DAYLIGHT
TZOFFSETFROM:+0000
TZOFFSETTO:+0100
TZNAME:BST
DTSTART:20220327T010000
END:DAYLIGHT
BEGIN:STANDARD
TZOFFSETFROM:+0100
TZOFFSETTO:+0000
TZNAME:GMT
DTSTART:20221030T010000
END:STANDARD
BEGIN:DAYLIGHT
TZOFFSETFROM:+0000
TZOFFSETTO:+0100
TZNAME:BST
DTSTART:20230326T010000
END:DAYLIGHT
BEGIN:STANDARD
TZOFFSETFROM:+0100
TZOFFSETTO:+0000
TZNAME:GMT
DTSTART:20231029T010000
END:STANDARD
END:VTIMEZONE
BEGIN:VEVENT
DTSTART;TZID=Europe/London:20221103T090000
DTEND;TZID=Europe/London:20221103T130000
DTSTAMP:20260421T040432
CREATED:20220712T105415Z
LAST-MODIFIED:20220819T103903Z
UID:10000017-1667466000-1667480400@headfirst-northyorks.org
SUMMARY:Suicide First Aid
DESCRIPTION:Please respond to the event if you would like to attend and if you have any questions or queries then please get in touch
URL:https://headfirst-northyorks.org/event/suicide-first-aid/
LOCATION:Scarborough Spa\, Scarborough Lane\, Scarborough\, Scarborough\, YO128LP\, UNITED KINGDOM
CATEGORIES:Scarborough District
ORGANIZER;CN="Scarborough District Council":MAILTO:test@scarboroughdc.org.uk
END:VEVENT
END:VCALENDAR