BEGIN:VCALENDAR
VERSION:2.0
PRODID:-//Head First - ECPv6.15.20//NONSGML v1.0//EN
CALSCALE:GREGORIAN
METHOD:PUBLISH
X-WR-CALNAME:Head First
X-ORIGINAL-URL:https://headfirst-northyorks.org
X-WR-CALDESC:Events for Head First
REFRESH-INTERVAL;VALUE=DURATION:PT1H
X-Robots-Tag:noindex
X-PUBLISHED-TTL:PT1H
BEGIN:VTIMEZONE
TZID:Europe/London
BEGIN:DAYLIGHT
TZOFFSETFROM:+0000
TZOFFSETTO:+0100
TZNAME:BST
DTSTART:20220327T010000
END:DAYLIGHT
BEGIN:STANDARD
TZOFFSETFROM:+0100
TZOFFSETTO:+0000
TZNAME:GMT
DTSTART:20221030T010000
END:STANDARD
BEGIN:DAYLIGHT
TZOFFSETFROM:+0000
TZOFFSETTO:+0100
TZNAME:BST
DTSTART:20230326T010000
END:DAYLIGHT
BEGIN:STANDARD
TZOFFSETFROM:+0100
TZOFFSETTO:+0000
TZNAME:GMT
DTSTART:20231029T010000
END:STANDARD
BEGIN:DAYLIGHT
TZOFFSETFROM:+0000
TZOFFSETTO:+0100
TZNAME:BST
DTSTART:20240331T010000
END:DAYLIGHT
BEGIN:STANDARD
TZOFFSETFROM:+0100
TZOFFSETTO:+0000
TZNAME:GMT
DTSTART:20241027T010000
END:STANDARD
END:VTIMEZONE
BEGIN:VEVENT
DTSTART;TZID=Europe/London:20230105T090000
DTEND;TZID=Europe/London:20230105T130000
DTSTAMP:20260420T234931
CREATED:20220712T112251Z
LAST-MODIFIED:20220712T112256Z
UID:10000030-1672909200-1672923600@headfirst-northyorks.org
SUMMARY:Youth MH Aware
DESCRIPTION:Youth MH Aware
URL:https://headfirst-northyorks.org/event/youth-mh-aware-2/
END:VEVENT
BEGIN:VEVENT
DTSTART;TZID=Europe/London:20230109T130000
DTEND;TZID=Europe/London:20230109T170000
DTSTAMP:20260420T234931
CREATED:20220712T111544Z
LAST-MODIFIED:20220712T111549Z
UID:10000028-1673269200-1673283600@headfirst-northyorks.org
SUMMARY:Adult MH Aware
DESCRIPTION:Adult MH Aware
URL:https://headfirst-northyorks.org/event/adult-mh-aware-2/
END:VEVENT
BEGIN:VEVENT
DTSTART;TZID=Europe/London:20230112T090000
DTEND;TZID=Europe/London:20230113T170000
DTSTAMP:20260420T234931
CREATED:20220908T103315Z
LAST-MODIFIED:20240212T151536Z
UID:10000036-1673514000-1673629200@headfirst-northyorks.org
SUMMARY:Applied Suicide Intervention Skills
DESCRIPTION:Applied Suicide Intervention Skills
URL:https://headfirst-northyorks.org/event/applied-suicide-intervention-skills/
ORGANIZER;CN="Katie Marlow":MAILTO:cast.learningsolutions@gmail.com
END:VEVENT
BEGIN:VEVENT
DTSTART;VALUE=DATE:20230119
DTEND;VALUE=DATE:20230121
DTSTAMP:20260420T234931
CREATED:20220908T103117Z
LAST-MODIFIED:20221014T105140Z
UID:10000035-1674086400-1674259199@headfirst-northyorks.org
SUMMARY:The ASK Workshop (Assessing for Suicide in Kids)
DESCRIPTION:The ASK Workshop (Assessing for Suicide in Kids)
URL:https://headfirst-northyorks.org/event/assessing-for-suicide-in-kids-workshop-2/
END:VEVENT
BEGIN:VEVENT
DTSTART;TZID=Europe/London:20230119T090000
DTEND;TZID=Europe/London:20230119T130000
DTSTAMP:20260420T234931
CREATED:20220712T105824Z
LAST-MODIFIED:20220712T105829Z
UID:10000019-1674118800-1674133200@headfirst-northyorks.org
SUMMARY:MHFA Adults
DESCRIPTION:MHFA Adults
URL:https://headfirst-northyorks.org/event/mhfa-adults/
END:VEVENT
BEGIN:VEVENT
DTSTART;TZID=Europe/London:20230120T090000
DTEND;TZID=Europe/London:20230120T130000
DTSTAMP:20260420T234931
CREATED:20220712T110032Z
LAST-MODIFIED:20220712T110036Z
UID:10000020-1674205200-1674219600@headfirst-northyorks.org
SUMMARY:MHFA Adults
DESCRIPTION:MHFA Adults
URL:https://headfirst-northyorks.org/event/mhfa-adults-2/
END:VEVENT
BEGIN:VEVENT
DTSTART;VALUE=DATE:20230123
DTEND;VALUE=DATE:20230125
DTSTAMP:20260420T234931
CREATED:20221014T104837Z
LAST-MODIFIED:20221014T104842Z
UID:10000038-1674432000-1674604799@headfirst-northyorks.org
SUMMARY:ASIST
DESCRIPTION:ASIST 
URL:https://headfirst-northyorks.org/event/asist/
END:VEVENT
BEGIN:VEVENT
DTSTART;TZID=Europe/London:20230123T090000
DTEND;TZID=Europe/London:20230123T130000
DTSTAMP:20260420T234931
CREATED:20220712T110243Z
LAST-MODIFIED:20220712T110247Z
UID:10000021-1674464400-1674478800@headfirst-northyorks.org
SUMMARY:MHFA Adults
DESCRIPTION:MHFA Adults
URL:https://headfirst-northyorks.org/event/mhfa-adults-3/
END:VEVENT
BEGIN:VEVENT
DTSTART;TZID=Europe/London:20230124T090000
DTEND;TZID=Europe/London:20230124T130000
DTSTAMP:20260420T234931
CREATED:20220712T110440Z
LAST-MODIFIED:20220712T110445Z
UID:10000022-1674550800-1674565200@headfirst-northyorks.org
SUMMARY:MHFA Adults
DESCRIPTION:MHFA Adults
URL:https://headfirst-northyorks.org/event/mhfa-adults-4/
END:VEVENT
END:VCALENDAR